BEGIN:VCALENDAR
PRODID:-//eluceo/ical//2.0/EN
VERSION:2.0
CALSCALE:GREGORIAN
BEGIN:VEVENT
UID:event-1401
DTSTAMP:20260420T155755Z
SUMMARY:Vegan Tasting
DESCRIPTION:Dear members\, Next week Thursday you can try some vegan option
 s of your favourite foods during the drinks in Bar het Lab! For only €2.
 00 you can enjoy a vegan doner or vegan burger. Be sure to order your food
  now since there are only limited tickets available!  You can order only 
 one option\, so please do not order multiple options! If you can not eat a
 ny of the options because of allergies please contact a member of the boar
 d. We will then arrange an option for you!
DTSTART:20260430T150000Z
DTEND:20260430T173000Z
END:VEVENT
BEGIN:VTIMEZONE
TZID:UTC
BEGIN:STANDARD
DTSTART:20260430T150000
TZNAME:UTC
TZOFFSETTO:+0000
TZOFFSETFROM:+0000
END:STANDARD
END:VTIMEZONE
END:VCALENDAR
