BEGIN:VCALENDAR
PRODID:-//eluceo/ical//2.0/EN
VERSION:2.0
CALSCALE:GREGORIAN
BEGIN:VEVENT
UID:event-1400
DTSTAMP:20260420T154704Z
SUMMARY:Lunch Lecture: Applying for a job
DESCRIPTION:Dear members\, On the 28th of April Gabrie Meesters will retur
 n with another interesting lecture. The lecture will be titled\, "Applyin
 g for a job: Where\, how and what to do and not to do." The lecture will 
 start at 12:45 in the Franklin and Waterman Hall. There will be plenty of 
 room for all your questions so feel free to ask them.  The first 30 peopl
 e to sign up will receive a free sandwich\, so don't hesitate to sign up!
DTSTART:20260428T104500Z
DTEND:20260428T114500Z
LOCATION:Franklin/ Waterman Hall
END:VEVENT
BEGIN:VTIMEZONE
TZID:UTC
BEGIN:STANDARD
DTSTART:20260428T104500
TZNAME:UTC
TZOFFSETTO:+0000
TZOFFSETFROM:+0000
END:STANDARD
END:VTIMEZONE
END:VCALENDAR
