BEGIN:VCALENDAR
PRODID:-//eluceo/ical//2.0/EN
VERSION:2.0
CALSCALE:GREGORIAN
BEGIN:VEVENT
UID:event-1223
DTSTAMP:20260421T085122Z
SUMMARY:Poké bowls at TG drinks
DESCRIPTION:Dear members\, Join us at the drinks today and enjoy a deliciou
 s Poké Bowl from Pokay Delft!
DTSTART:20241128T170000Z
DTEND:20241128T180000Z
END:VEVENT
BEGIN:VTIMEZONE
TZID:UTC
BEGIN:STANDARD
DTSTART:20241128T170000
TZNAME:UTC
TZOFFSETTO:+0000
TZOFFSETFROM:+0000
END:STANDARD
END:VTIMEZONE
END:VCALENDAR
